BEGIN:VCALENDAR
VERSION:2.0
PRODID:-//Squarespace Inc/Squarespace 6//v6//EN
BEGIN:VEVENT
UID:55484dd1e4b0684a7a368f06@squarespace.com
DTSTAMP:20150611T043029Z
DTSTART:20150613T180000Z
DTEND:20150613T190000Z
SUMMARY:Williamstown Literary Festival
END:VEVENT
END:VCALENDAR
