BEGIN:VCALENDAR
VERSION:2.0
PRODID:-//Squarespace Inc/Squarespace 6//v6//EN
BEGIN:VEVENT
UID:55484f1fe4b0260c0a42a16c@squarespace.com
DTSTAMP:20150505T054719Z
DTSTART:20150507T220000Z
DTEND:20150507T230000Z
SUMMARY:Macleans Booksellers
GEO:-32.92133;151.747469
LOCATION:MacLean's Booksellers\, 69 Beaumont St\, Hamilton\, NSW\, 2303\, A
 ustralia
END:VEVENT
END:VCALENDAR
