BEGIN:VCALENDAR
VERSION:2.0
PRODID:-//Squarespace Inc/Squarespace 6//v6//EN
BEGIN:VEVENT
UID:554856f5e4b0b8206a8de86b@squarespace.com
DTSTAMP:20150505T054427Z
DTSTART:20150506T223000Z
DTEND:20150507T003000Z
SUMMARY:Meet David Day @ Five Dock Library
GEO:-33.868288;151.128608
LOCATION:Five Dock Library\, 4-12 Garfield St\, Five Dock\, NSW\, 2046\, Au
 stralia
END:VEVENT
END:VCALENDAR
