BEGIN:VCALENDAR
VERSION:2.0
PRODID:-//Squarespace Inc/Squarespace 6//v6//EN
BEGIN:VEVENT
UID:5548521fe4b0df39e8313efc@squarespace.com
DTSTAMP:20150505T055146Z
DTSTART:20150511T220000Z
DTEND:20150511T230000Z
SUMMARY:Goldfields Libraries Talk
GEO:-36.759507;144.281002
LOCATION:Bendigo Library\, 259 Hargreaves St\, Bendigo\, VIC\, 3550\, Austr
 alia
END:VEVENT
END:VCALENDAR
